BEGIN:VCALENDAR
VERSION:2.0
PRODID:-//JC Race Timing Solutions - ECPv6.15.20//NONSGML v1.0//EN
CALSCALE:GREGORIAN
METHOD:PUBLISH
X-ORIGINAL-URL:https://jcracetiming.uk
X-WR-CALDESC:Events for JC Race Timing Solutions
REFRESH-INTERVAL;VALUE=DURATION:PT1H
X-Robots-Tag:noindex
X-PUBLISHED-TTL:PT1H
BEGIN:VTIMEZONE
TZID:Europe/London
BEGIN:DAYLIGHT
TZOFFSETFROM:+0000
TZOFFSETTO:+0100
TZNAME:BST
DTSTART:20250330T010000
END:DAYLIGHT
BEGIN:STANDARD
TZOFFSETFROM:+0100
TZOFFSETTO:+0000
TZNAME:GMT
DTSTART:20251026T010000
END:STANDARD
BEGIN:DAYLIGHT
TZOFFSETFROM:+0000
TZOFFSETTO:+0100
TZNAME:BST
DTSTART:20260329T010000
END:DAYLIGHT
BEGIN:STANDARD
TZOFFSETFROM:+0100
TZOFFSETTO:+0000
TZNAME:GMT
DTSTART:20261025T010000
END:STANDARD
BEGIN:DAYLIGHT
TZOFFSETFROM:+0000
TZOFFSETTO:+0100
TZNAME:BST
DTSTART:20270328T010000
END:DAYLIGHT
BEGIN:STANDARD
TZOFFSETFROM:+0100
TZOFFSETTO:+0000
TZNAME:GMT
DTSTART:20271031T010000
END:STANDARD
END:VTIMEZONE
BEGIN:VEVENT
DTSTART;VALUE=DATE:20260522
DTEND;VALUE=DATE:20260525
DTSTAMP:20260423T095837
CREATED:20230716T102010Z
LAST-MODIFIED:20251121T122346Z
UID:12805-1779408000-1779667199@jcracetiming.uk
SUMMARY:The Grim Reaper
DESCRIPTION:The Grim Reaper is back for 2026…and he’s coming for you!\nRunners have the option of four solo distances – 10\, 40\, 70 & 100-miles – plus 40-mile and 100-mile team relay options. There will be two 10-mile races\, one in the morning and a night version. \nExpect a mix of estate roads\, limestone tracks and grass trail. Trail shoes are recommended\, especially in damp/wet conditions. \nLocated at the beautiful Grimsthorpe Castle\nThe route is a 10-mile loop that covers beautiful grass trails through ancient woodland\, limestone tracks\, quiet estate roads and a stretch along a disused Victorian railway line. It also skirts around the picturesque estate lake before reaching the start/finish point in front of the castle itself. \nWe class this as an ‘undulating’ trail course with no major hills to contend with\, making it ideal for those new to ultra-running\, looking to take the next step to a longer distance or aiming for a PB. The course will be fully marked. \nEnter here  \n 
URL:https://jcracetiming.uk/events/the-grim-reaper-2/
LOCATION:Grimsthorpe Castle
CATEGORIES:10 Miles,100 Miles,2026,40 miles,70 Miles,Running Event,Solo Races,Team Event
ATTACH;FMTTYPE=image/jpeg:https://jcracetiming.uk/wp-content/uploads/2023/07/grim-reaper-1-370x209-1.jpg
END:VEVENT
BEGIN:VEVENT
DTSTART;VALUE=DATE:20261231
DTEND;VALUE=DATE:20270101
DTSTAMP:20260423T095837
CREATED:20250827T195010Z
LAST-MODIFIED:20260210T185131Z
UID:74366-1798675200-1798761599@jcracetiming.uk
SUMMARY:Llandeilo 10 miler + 10k NYE
DESCRIPTION:Llandeilo 10 miler and 10k entries now open. Get entered into the beautiful\, hilly\, scenic event in the Heart of Wales. Enter before December 8th to get your bespoke Event-unique buff. \n 
URL:https://jcracetiming.uk/events/llandeilo-10-miler-10k-nye/
CATEGORIES:10 Miles,10K,2025,Running Event
ATTACH;FMTTYPE=image/png:https://jcracetiming.uk/wp-content/uploads/2025/08/feat.png
END:VEVENT
END:VCALENDAR